
BEGIN:VCALENDAR
VERSION:2.0
PRODID:-//hacksw/handcal//NONSGML v1.0//EN
CALSCALE:GREGORIAN
BEGIN:VEVENT
DTSTART:20190718T203038Z
DTEND:20190718T213038Z
SUMMARY:Letní kino Na Karmeli  Tvář vody
DTSTAMP:20260422T060056Z
UID:69e86418cdefa
END:VEVENT
END:VCALENDAR