
BEGIN:VCALENDAR
VERSION:2.0
PRODID:-//hacksw/handcal//NONSGML v1.0//EN
CALSCALE:GREGORIAN
BEGIN:VEVENT
DTSTART:20190711T203035Z
DTEND:20190711T213035Z
SUMMARY:Letní kino Na Karmeli  Po čem muži touží
DTSTAMP:20260422T063200Z
UID:69e86b600d804
END:VEVENT
END:VCALENDAR