
BEGIN:VCALENDAR
VERSION:2.0
PRODID:-//hacksw/handcal//NONSGML v1.0//EN
CALSCALE:GREGORIAN
BEGIN:VEVENT
DTSTART:20190526T144518Z
DTEND:20190526T154518Z
SUMMARY:Hokejová aréna  boj o třetí místo a finále
DTSTAMP:20260422T080446Z
UID:69e8811e961c2
END:VEVENT
END:VCALENDAR