
BEGIN:VCALENDAR
VERSION:2.0
PRODID:-//hacksw/handcal//NONSGML v1.0//EN
CALSCALE:GREGORIAN
BEGIN:VEVENT
DTSTART:20190525T141515Z
DTEND:20190525T151515Z
SUMMARY:Hokejová aréna  semifinále
DTSTAMP:20260422T075129Z
UID:69e87e01176c2
END:VEVENT
END:VCALENDAR