
BEGIN:VCALENDAR
VERSION:2.0
PRODID:-//hacksw/handcal//NONSGML v1.0//EN
CALSCALE:GREGORIAN
BEGIN:VEVENT
DTSTART:20190523T151546Z
DTEND:20190523T161546Z
SUMMARY:Hokejová aréna  čtvrfinále
DTSTAMP:20260422T073948Z
UID:69e87b440e079
END:VEVENT
END:VCALENDAR