
BEGIN:VCALENDAR
VERSION:2.0
PRODID:-//hacksw/handcal//NONSGML v1.0//EN
CALSCALE:GREGORIAN
BEGIN:VEVENT
DTSTART:20190521T111520Z
DTEND:20190521T121520Z
SUMMARY:Hokejová aréna zápas ČR – Švýcarsko
DTSTAMP:20260422T075950Z
UID:69e87ff608ea2
END:VEVENT
END:VCALENDAR