
BEGIN:VCALENDAR
VERSION:2.0
PRODID:-//hacksw/handcal//NONSGML v1.0//EN
CALSCALE:GREGORIAN
BEGIN:VEVENT
DTSTART:20190517T191555Z
DTEND:20190517T201555Z
SUMMARY:Hokejová aréna zápas ČR  Itálie
DTSTAMP:20260422T083722Z
UID:69e888c2d9a0e
END:VEVENT
END:VCALENDAR