
BEGIN:VCALENDAR
VERSION:2.0
PRODID:-//hacksw/handcal//NONSGML v1.0//EN
CALSCALE:GREGORIAN
BEGIN:VEVENT
DTSTART:20190513T151544Z
DTEND:20190513T161544Z
SUMMARY:Hokejová aréna zápas ČR  Rusko
DTSTAMP:20260422T084451Z
UID:69e88a83717ac
END:VEVENT
END:VCALENDAR