
BEGIN:VCALENDAR
VERSION:2.0
PRODID:-//hacksw/handcal//NONSGML v1.0//EN
CALSCALE:GREGORIAN
BEGIN:VEVENT
DTSTART:20190611T180053Z
DTEND:20190611T190053Z
SUMMARY:Metalová fashion show – kolekce Katharina Mörth &#038\; Meescha P.   
DTSTAMP:20260422T065533Z
UID:69e870e5ef1ae
END:VEVENT
END:VCALENDAR