
BEGIN:VCALENDAR
VERSION:2.0
PRODID:-//hacksw/handcal//NONSGML v1.0//EN
CALSCALE:GREGORIAN
BEGIN:VEVENT
DTSTART:20190530T170033Z
DTEND:20190530T180033Z
SUMMARY:Karma rodičů
DTSTAMP:20260422T065600Z
UID:69e87100c023e
END:VEVENT
END:VCALENDAR