
BEGIN:VCALENDAR
VERSION:2.0
PRODID:-//hacksw/handcal//NONSGML v1.0//EN
CALSCALE:GREGORIAN
BEGIN:VEVENT
DTSTART:20190522T170010Z
DTEND:20190522T180010Z
SUMMARY:FOTOGRAMMETRIE 1.  DÍL
DTSTAMP:20260422T074019Z
UID:69e87b63b65d3
END:VEVENT
END:VCALENDAR