
BEGIN:VCALENDAR
VERSION:2.0
PRODID:-//hacksw/handcal//NONSGML v1.0//EN
CALSCALE:GREGORIAN
BEGIN:VEVENT
DTSTART:20190619T150001Z
DTEND:20190619T160001Z
SUMMARY:T- Mobile Olympijský běh
DTSTAMP:20260422T070009Z
UID:69e871f98737f
END:VEVENT
END:VCALENDAR