
BEGIN:VCALENDAR
VERSION:2.0
PRODID:-//hacksw/handcal//NONSGML v1.0//EN
CALSCALE:GREGORIAN
BEGIN:VEVENT
DTSTART:20190502T170054Z
DTEND:20190502T180054Z
SUMMARY:Lákadla
DTSTAMP:20260422T093317Z
UID:69e895dd144d9
END:VEVENT
END:VCALENDAR