
BEGIN:VCALENDAR
VERSION:2.0
PRODID:-//hacksw/handcal//NONSGML v1.0//EN
CALSCALE:GREGORIAN
BEGIN:VEVENT
DTSTART:20190110T170040Z
DTEND:20190110T180040Z
SUMMARY:Co nás čeká v roce 2019?
DTSTAMP:20260422T125159Z
UID:69e8c46f652a6
END:VEVENT
END:VCALENDAR