
BEGIN:VCALENDAR
VERSION:2.0
PRODID:-//hacksw/handcal//NONSGML v1.0//EN
CALSCALE:GREGORIAN
BEGIN:VEVENT
DTSTART:20181218T150003Z
DTEND:20181218T160003Z
SUMMARY:Putování za Ježíškem
DTSTAMP:20260422T125956Z
UID:69e8c64c57459
END:VEVENT
END:VCALENDAR