
BEGIN:VCALENDAR
VERSION:2.0
PRODID:-//hacksw/handcal//NONSGML v1.0//EN
CALSCALE:GREGORIAN
BEGIN:VEVENT
DTSTART:20181101T170047Z
DTEND:20181101T180047Z
SUMMARY:Diashow Mariky Višňové: Srí Lanka
DTSTAMP:20260422T135354Z
UID:69e8d2f256625
END:VEVENT
END:VCALENDAR