
BEGIN:VCALENDAR
VERSION:2.0
PRODID:-//hacksw/handcal//NONSGML v1.0//EN
CALSCALE:GREGORIAN
BEGIN:VEVENT
DTSTART:20180913T170009Z
DTEND:20180913T180009Z
SUMMARY:Konec prokrastinace: Jak přestat odkládat a žít naplno?
DTSTAMP:20260422T160817Z
UID:69e8f271679bf
END:VEVENT
END:VCALENDAR