
BEGIN:VCALENDAR
VERSION:2.0
PRODID:-//hacksw/handcal//NONSGML v1.0//EN
CALSCALE:GREGORIAN
BEGIN:VEVENT
DTSTART:20181030T170028Z
DTEND:20181030T180028Z
SUMMARY:Čína  diashow Jakuba Vengláře
DTSTAMP:20260422T143324Z
UID:69e8dc346b900
END:VEVENT
END:VCALENDAR