
BEGIN:VCALENDAR
VERSION:2.0
PRODID:-//hacksw/handcal//NONSGML v1.0//EN
CALSCALE:GREGORIAN
BEGIN:VEVENT
DTSTART:20180531T170057Z
DTEND:20180531T180057Z
SUMMARY:Diashow Indie  Těžko uvěřitelná země
DTSTAMP:20260422T180445Z
UID:69e90dbd0dee9
END:VEVENT
END:VCALENDAR