
BEGIN:VCALENDAR
VERSION:2.0
PRODID:-//hacksw/handcal//NONSGML v1.0//EN
CALSCALE:GREGORIAN
BEGIN:VEVENT
DTSTART:20180823T200031Z
DTEND:20180823T210031Z
SUMMARY:Letní kino Na Karmeli  Padesát odstínů svobody 23.8.2018
DTSTAMP:20260422T160810Z
UID:69e8f26a1440d
END:VEVENT
END:VCALENDAR