
BEGIN:VCALENDAR
VERSION:2.0
PRODID:-//hacksw/handcal//NONSGML v1.0//EN
CALSCALE:GREGORIAN
BEGIN:VEVENT
DTSTART:20180809T200027Z
DTEND:20180809T210027Z
SUMMARY:Letní kino Na Karmeli  Padesát odstínů šedi 9.8.2018
DTSTAMP:20260422T162914Z
UID:69e8f75a775e5
END:VEVENT
END:VCALENDAR