
BEGIN:VCALENDAR
VERSION:2.0
PRODID:-//hacksw/handcal//NONSGML v1.0//EN
CALSCALE:GREGORIAN
BEGIN:VEVENT
DTSTART:20180719T203019Z
DTEND:20180719T213019Z
SUMMARY:Letní kino Na Karmeli  Vražda v Orient Expresu 19.7.2018
DTSTAMP:20260422T162741Z
UID:69e8f6fdb35d8
END:VEVENT
END:VCALENDAR