
BEGIN:VCALENDAR
VERSION:2.0
PRODID:-//hacksw/handcal//NONSGML v1.0//EN
CALSCALE:GREGORIAN
BEGIN:VEVENT
DTSTART:20180607T080048Z
DTEND:20180607T090048Z
SUMMARY:Escape Games na Karmeli
DTSTAMP:20260422T180339Z
UID:69e90d7b61c89
END:VEVENT
END:VCALENDAR