
BEGIN:VCALENDAR
VERSION:2.0
PRODID:-//hacksw/handcal//NONSGML v1.0//EN
CALSCALE:GREGORIAN
BEGIN:VEVENT
DTSTART:20180514T191507Z
DTEND:20180514T201507Z
SUMMARY:Hokejová aréna – 14.5.2018 zápas ČR-Rakousko
DTSTAMP:20260422T181318Z
UID:69e90fbe7c890
END:VEVENT
END:VCALENDAR