
BEGIN:VCALENDAR
VERSION:2.0
PRODID:-//hacksw/handcal//NONSGML v1.0//EN
CALSCALE:GREGORIAN
BEGIN:VEVENT
DTSTART:20180322T170007Z
DTEND:20180322T180007Z
SUMMARY:Jaký bude rok 2018?
DTSTAMP:20260422T195622Z
UID:69e927e68cc07
END:VEVENT
END:VCALENDAR