
BEGIN:VCALENDAR
VERSION:2.0
PRODID:-//hacksw/handcal//NONSGML v1.0//EN
CALSCALE:GREGORIAN
BEGIN:VEVENT
DTSTART:20180510T191540Z
DTEND:20180510T201540Z
SUMMARY:Hokejová aréna – 10.5.2018 zápas ČR-Rusko
DTSTAMP:20260422T195443Z
UID:69e92783ee33f
END:VEVENT
END:VCALENDAR