
BEGIN:VCALENDAR
VERSION:2.0
PRODID:-//hacksw/handcal//NONSGML v1.0//EN
CALSCALE:GREGORIAN
BEGIN:VEVENT
DTSTART:20180222T170003Z
DTEND:20180222T180003Z
SUMMARY:Adrenalinová diashow Jakuba Šedivého  Expedice Kyrgysztán na kajaku
DTSTAMP:20260422T195858Z
UID:69e92882a9e2b
END:VEVENT
END:VCALENDAR