
BEGIN:VCALENDAR
VERSION:2.0
PRODID:-//hacksw/handcal//NONSGML v1.0//EN
CALSCALE:GREGORIAN
BEGIN:VEVENT
DTSTART:20180201T170035Z
DTEND:20180201T180035Z
SUMMARY:Sebepoznáním k ochraně zdraví  Bioenergetická terapie 1.2.2018
DTSTAMP:20260422T201133Z
UID:69e92b753b785
END:VEVENT
END:VCALENDAR