
BEGIN:VCALENDAR
VERSION:2.0
PRODID:-//hacksw/handcal//NONSGML v1.0//EN
CALSCALE:GREGORIAN
BEGIN:VEVENT
DTSTART:20170126T180011Z
DTEND:20170126T190011Z
SUMMARY:Manželský čtyřúhelník  divadelní představení
DTSTAMP:20260422T123147Z
UID:69e8bfb32d7ba
END:VEVENT
END:VCALENDAR