
BEGIN:VCALENDAR
VERSION:2.0
PRODID:-//hacksw/handcal//NONSGML v1.0//EN
CALSCALE:GREGORIAN
BEGIN:VEVENT
DTSTART:20171219T150000Z
DTEND:20171219T160000Z
SUMMARY:Po stopách sněhové královny
DTSTAMP:20260422T195241Z
UID:69e927097e961
END:VEVENT
END:VCALENDAR