
BEGIN:VCALENDAR
VERSION:2.0
PRODID:-//hacksw/handcal//NONSGML v1.0//EN
CALSCALE:GREGORIAN
BEGIN:VEVENT
DTSTART:20170518T144512Z
DTEND:20170518T154512Z
SUMMARY:Hokejová aréna  Čtvrtfinále\, přijďte fandit!
DTSTAMP:20260422T143324Z
UID:69e8dc34602f8
END:VEVENT
END:VCALENDAR