
BEGIN:VCALENDAR
VERSION:2.0
PRODID:-//hacksw/handcal//NONSGML v1.0//EN
CALSCALE:GREGORIAN
BEGIN:VEVENT
DTSTART:20170907T200014Z
DTEND:20170907T210014Z
SUMMARY:Letní kino na Karmeli  Tajný život mazlíčků
DTSTAMP:20260422T162657Z
UID:69e8f6d13cb87
END:VEVENT
END:VCALENDAR