
BEGIN:VCALENDAR
VERSION:2.0
PRODID:-//hacksw/handcal//NONSGML v1.0//EN
CALSCALE:GREGORIAN
BEGIN:VEVENT
DTSTART:20170824T200028Z
DTEND:20170824T210028Z
SUMMARY:Letní kino na Karmeli  Čarodějnice
DTSTAMP:20260422T162718Z
UID:69e8f6e692fbb
END:VEVENT
END:VCALENDAR