
BEGIN:VCALENDAR
VERSION:2.0
PRODID:-//hacksw/handcal//NONSGML v1.0//EN
CALSCALE:GREGORIAN
BEGIN:VEVENT
DTSTART:20170720T203004Z
DTEND:20170720T213004Z
SUMMARY:Letní kino  Všechno nebo nic
DTSTAMP:20260422T180317Z
UID:69e90d65b9399
END:VEVENT
END:VCALENDAR