
BEGIN:VCALENDAR
VERSION:2.0
PRODID:-//hacksw/handcal//NONSGML v1.0//EN
CALSCALE:GREGORIAN
BEGIN:VEVENT
DTSTART:20170713T203043Z
DTEND:20170713T213043Z
SUMMARY:Letní kino  Teorie tygra
DTSTAMP:20260422T162741Z
UID:69e8f6fdb369b
END:VEVENT
END:VCALENDAR