
BEGIN:VCALENDAR
VERSION:2.0
PRODID:-//hacksw/handcal//NONSGML v1.0//EN
CALSCALE:GREGORIAN
BEGIN:VEVENT
DTSTART:20170516T144510Z
DTEND:20170516T154510Z
SUMMARY:Hokejová aréna  ČR/Švýcarsko
DTSTAMP:20260422T143159Z
UID:69e8dbdf7da82
END:VEVENT
END:VCALENDAR