
BEGIN:VCALENDAR
VERSION:2.0
PRODID:-//hacksw/handcal//NONSGML v1.0//EN
CALSCALE:GREGORIAN
BEGIN:VEVENT
DTSTART:20170513T120029Z
DTEND:20170513T130029Z
SUMMARY:Majáles ve ve stylu science-fiction a robot
DTSTAMP:20260422T143159Z
UID:69e8dbdf7da7f
END:VEVENT
END:VCALENDAR