
BEGIN:VCALENDAR
VERSION:2.0
PRODID:-//hacksw/handcal//NONSGML v1.0//EN
CALSCALE:GREGORIAN
BEGIN:VEVENT
DTSTART:20170505T184533Z
DTEND:20170505T194533Z
SUMMARY:Hokejová aréna   MS v ledním hokeji 2017 Na Karmeli
DTSTAMP:20260422T142216Z
UID:69e8d998a97a9
END:VEVENT
END:VCALENDAR