
BEGIN:VCALENDAR
VERSION:2.0
PRODID:-//hacksw/handcal//NONSGML v1.0//EN
CALSCALE:GREGORIAN
BEGIN:VEVENT
DTSTART:20170523T170018Z
DTEND:20170523T180018Z
SUMMARY:Diashow: Cesta kolem světa Škodou Octavia
DTSTAMP:20260422T162914Z
UID:69e8f75a82734
END:VEVENT
END:VCALENDAR