
BEGIN:VCALENDAR
VERSION:2.0
PRODID:-//hacksw/handcal//NONSGML v1.0//EN
CALSCALE:GREGORIAN
BEGIN:VEVENT
DTSTART:20170411T180055Z
DTEND:20170411T190055Z
SUMMARY:Talkshow Miroslava Donutila Cestou necestou
DTSTAMP:20260422T143330Z
UID:69e8dc3a32b01
END:VEVENT
END:VCALENDAR