
BEGIN:VCALENDAR
VERSION:2.0
PRODID:-//hacksw/handcal//NONSGML v1.0//EN
CALSCALE:GREGORIAN
BEGIN:VEVENT
DTSTART:20170420T180029Z
DTEND:20170420T190029Z
SUMMARY:Sejdeme se Na Karmeli s Cibulkou  hosté Jan Cimický a Monika Absolonová
DTSTAMP:20260422T142155Z
UID:69e8d9839f895
END:VEVENT
END:VCALENDAR