
BEGIN:VCALENDAR
VERSION:2.0
PRODID:-//hacksw/handcal//NONSGML v1.0//EN
CALSCALE:GREGORIAN
BEGIN:VEVENT
DTSTART:20170412T170059Z
DTEND:20170412T180059Z
SUMMARY:Diashow Tomáše Kubeše: Papu Papua  za lidojedy
DTSTAMP:20260422T142156Z
UID:69e8d984211cc
END:VEVENT
END:VCALENDAR