
BEGIN:VCALENDAR
VERSION:2.0
PRODID:-//hacksw/handcal//NONSGML v1.0//EN
CALSCALE:GREGORIAN
BEGIN:VEVENT
DTSTART:20170112T180010Z
DTEND:20170112T190010Z
SUMMARY:4TET na Karmeli už v lednu!
DTSTAMP:20260422T124134Z
UID:69e8c1feddab2
END:VEVENT
END:VCALENDAR