
BEGIN:VCALENDAR
VERSION:2.0
PRODID:-//hacksw/handcal//NONSGML v1.0//EN
CALSCALE:GREGORIAN
BEGIN:VEVENT
DTSTART:20160811T200006Z
DTEND:20160811T210006Z
SUMMARY:EN Letní kino Na Karmeli  Spectre
DTSTAMP:20260420T200038Z
UID:69e685e6e93c1
END:VEVENT
END:VCALENDAR