
BEGIN:VCALENDAR
VERSION:2.0
PRODID:-//hacksw/handcal//NONSGML v1.0//EN
CALSCALE:GREGORIAN
BEGIN:VEVENT
DTSTART:20161014T180035Z
DTEND:20161014T190035Z
SUMMARY:EN Nebyla to pátá\, byla to devátá&#8230\;
DTSTAMP:20260420T200734Z
UID:69e687863c3c6
END:VEVENT
END:VCALENDAR