
BEGIN:VCALENDAR
VERSION:2.0
PRODID:-//hacksw/handcal//NONSGML v1.0//EN
CALSCALE:GREGORIAN
BEGIN:VEVENT
DTSTART:20161020T180018Z
DTEND:20161020T190018Z
SUMMARY:EN Drůběží nářez  DS Nakafráno Turnov
DTSTAMP:20260420T195123Z
UID:69e683bb6726c
END:VEVENT
END:VCALENDAR