
BEGIN:VCALENDAR
VERSION:2.0
PRODID:-//hacksw/handcal//NONSGML v1.0//EN
CALSCALE:GREGORIAN
BEGIN:VEVENT
DTSTART:20161110T180031Z
DTEND:20161110T190031Z
SUMMARY:EN Komici s.r.o.  Miloš Knor\, Petr Vydra a Pavel Tomeš
DTSTAMP:20260420T181623Z
UID:69e66d772c57b
END:VEVENT
END:VCALENDAR