
BEGIN:VCALENDAR
VERSION:2.0
PRODID:-//hacksw/handcal//NONSGML v1.0//EN
CALSCALE:GREGORIAN
BEGIN:VEVENT
DTSTART:20161115T170019Z
DTEND:20161115T180019Z
SUMMARY:EN Diashow: Albánie
DTSTAMP:20260420T182924Z
UID:69e6708447a98
END:VEVENT
END:VCALENDAR