
BEGIN:VCALENDAR
VERSION:2.0
PRODID:-//hacksw/handcal//NONSGML v1.0//EN
CALSCALE:GREGORIAN
BEGIN:VEVENT
DTSTART:20161208T180029Z
DTEND:20161208T190029Z
SUMMARY:EN Divadelní komedie Domácí@štěstí.hned
DTSTAMP:20260420T181616Z
UID:69e66d7070b44
END:VEVENT
END:VCALENDAR