
BEGIN:VCALENDAR
VERSION:2.0
PRODID:-//hacksw/handcal//NONSGML v1.0//EN
CALSCALE:GREGORIAN
BEGIN:VEVENT
DTSTART:20161215T150020Z
DTEND:20161215T160020Z
SUMMARY:Putování za Ježíškem
DTSTAMP:20260420T201555Z
UID:69e6897b95b94
END:VEVENT
END:VCALENDAR